BEGIN:VCALENDAR
VERSION:2.0
PRODID:-//Tukios.com/
BEGIN:VEVENT
UID:d445cf13-569f-4fad-9200-c253f79e0f2d@www.mccormickandson.com
DTSTAMP:20260421T235519Z
DTSTART:20260425T220000Z
DTEND:20260426T000000Z
SUMMARY:Visitation
DESCRIPTION:
URL:https://www.mccormickandson.com/obituaries/ines-alvarez
LOCATION: 25002 Moulton Pkwy  Laguna Hills CA 92637
GEO:33.6000396;-117.7161237
END:VEVENT
END:VCALENDAR