BEGIN:VCALENDAR
VERSION:2.0
PRODID:-//Tukios.com/
BEGIN:VEVENT
UID:d67c63e1-c3f5-4fb0-9a6b-8273f5317dcf@www.mccormickandson.com
DTSTAMP:20260421T235112Z
DTSTART:20260426T000000Z
DTEND:20260426T010000Z
SUMMARY:Rosary
DESCRIPTION:
URL:https://www.mccormickandson.com/obituaries/ines-alvarez
LOCATION: 25002 Moulton Pkwy  Laguna Hills CA 92637
GEO:33.6000396;-117.7161237
END:VEVENT
END:VCALENDAR