BEGIN:VCALENDAR
VERSION:2.0
PRODID:-//Tukios.com/
BEGIN:VEVENT
UID:41adac06-bfa8-43b6-bac0-bf89bec9f129@www.mccormickandson.com
DTSTAMP:20260421T235928Z
DTSTART:20260426T010000Z
DTEND:20260426T020000Z
SUMMARY:Reception
DESCRIPTION:
URL:https://www.mccormickandson.com/obituaries/ines-alvarez
LOCATION: 25002 Moulton Pkwy  Laguna Hills CA 92637
GEO:33.6000396;-117.7161237
END:VEVENT
END:VCALENDAR