BEGIN:VCALENDAR
VERSION:2.0
PRODID:-//Tukios.com/
BEGIN:VEVENT
UID:c66315f7-cc73-41c2-a231-416695d4de01@www.mccormickandson.com
DTSTAMP:20260422T222404Z
DTSTART:20260513T210000Z
DTEND:20260513T220000Z
SUMMARY:Graveside Service
DESCRIPTION:Celebration of Life to follow at the Boyd Family Residence
URL:https://www.mccormickandson.com/obituaries/marjorie-varrato
LOCATION: 22495 Van Buren Boulevard  Riverside CA 92518
GEO:33.8856688;-117.2793495
END:VEVENT
END:VCALENDAR